BEGIN:VCALENDAR
VERSION:2.0
PRODID:-//toulouseatlanta - ECPv6.13.2//NONSGML v1.0//EN
CALSCALE:GREGORIAN
METHOD:PUBLISH
X-ORIGINAL-URL:https://www.toulouseatlanta.fr
X-WR-CALDESC:Évènements pour toulouseatlanta
REFRESH-INTERVAL;VALUE=DURATION:PT1H
X-Robots-Tag:noindex
X-PUBLISHED-TTL:PT1H
BEGIN:VTIMEZONE
TZID:Europe/Paris
BEGIN:DAYLIGHT
TZOFFSETFROM:+0100
TZOFFSETTO:+0200
TZNAME:CEST
DTSTART:20220327T010000
END:DAYLIGHT
BEGIN:STANDARD
TZOFFSETFROM:+0200
TZOFFSETTO:+0100
TZNAME:CET
DTSTART:20221030T010000
END:STANDARD
END:VTIMEZONE
BEGIN:VEVENT
DTSTART;TZID=Europe/Paris:20220215T180000
DTEND;TZID=Europe/Paris:20220215T193000
DTSTAMP:20260422T051609
CREATED:20220106T092922Z
LAST-MODIFIED:20220106T092922Z
UID:4263-1644948000-1644953400@www.toulouseatlanta.fr
SUMMARY:Assemblée générale
DESCRIPTION:
URL:https://www.toulouseatlanta.fr/event/assemblee-generale-5/
LOCATION:maison de la citoyennete\, 5 rue paul meriel\, toulouse\, France
CATEGORIES:Assemblée générale,Évènement à venir
ORGANIZER;CN="Comit%C3%A9 de Jumelage Toulouse-Atlanta":MAILTO:contact@toulouseatlanta.fr
END:VEVENT
END:VCALENDAR